BEGIN:VCALENDAR
VERSION:2.0
BEGIN:VEVENT
DTSTART;TZID=Europe/Stockholm:20200816T160000
DTEND;TZID=Europe/Stockholm:20200816T170000
DTSTAMP:20260419T152022
DESCRIPTION:16:00 och 18:00 med samma program.

Folkhälsomyndighetens begränsning kvarstår av högst 50 personer på en samling.
SEQUENCE:0
SUMMARY:Sommarkväll I Pingstkyrkan
UID:5327@lawebb.se
END:VEVENT
END:VCALENDAR